BEGIN:VCALENDAR
VERSION:2.0
PRODID:-//Brahma Kumaris Maninagar - ECPv4.9.3.2//NONSGML v1.0//EN
CALSCALE:GREGORIAN
METHOD:PUBLISH
X-WR-CALNAME:Brahma Kumaris Maninagar
X-ORIGINAL-URL:https://maninagar.bk.ooo
X-WR-CALDESC:Events for Brahma Kumaris Maninagar
BEGIN:VEVENT
DTSTART;TZID=UTC+5.5:20180701T090000
DTEND;TZID=UTC+5.5:20180701T173000
DTSTAMP:20260421T113932
CREATED:20180516T084032Z
LAST-MODIFIED:20180516T084032Z
UID:529-1530435600-1530466200@maninagar.bk.ooo
SUMMARY:1st July\, 2018 Sunday Kumar's Bhatti at Vatva\, Ahmedabad
DESCRIPTION:
URL:https://maninagar.bk.ooo/event/1st-july-2018-sunday-kumars-bhatti-at-vatva-ahmedabad/
END:VEVENT
END:VCALENDAR