BEGIN:VCALENDAR
VERSION:2.0
PRODID:-//Brahma Kumaris Maninagar - ECPv4.9.3.2//NONSGML v1.0//EN
CALSCALE:GREGORIAN
METHOD:PUBLISH
X-WR-CALNAME:Brahma Kumaris Maninagar
X-ORIGINAL-URL:https://maninagar.bk.ooo
X-WR-CALDESC:Events for Brahma Kumaris Maninagar
BEGIN:VEVENT
DTSTART;TZID=UTC+0:20180501T170000
DTEND;TZID=UTC+0:20180531T200000
DTSTAMP:20260421T141419
CREATED:20180325T091529Z
LAST-MODIFIED:20180516T083535Z
UID:496-1525194000-1527796800@maninagar.bk.ooo
SUMMARY:31st May'2018 Children Summer Camp Finale & Price Distribution
DESCRIPTION:
URL:https://maninagar.bk.ooo/event/1st-may2018-children-summer-camp/
LOCATION:Sukh Shanti Bhawan\, Bhula Bhai park Road \, Kankariya\, Ahmedabad\, Gujarat\, 380022\, India
ATTACH;FMTTYPE=image/jpeg:https://maninagar.bk.ooo/wp-content/uploads/sites/132/2018/03/UpcomingEvent-1.jpg
END:VEVENT
END:VCALENDAR