BEGIN:VCALENDAR
VERSION:2.0
PRODID:-//Brahma Kumaris Maninagar - ECPv4.9.3.2//NONSGML v1.0//EN
CALSCALE:GREGORIAN
METHOD:PUBLISH
X-WR-CALNAME:Brahma Kumaris Maninagar
X-ORIGINAL-URL:https://maninagar.bk.ooo
X-WR-CALDESC:Events for Brahma Kumaris Maninagar
BEGIN:VEVENT
DTSTART;VALUE=DATE:20180601
DTEND;VALUE=DATE:20180604
DTSTAMP:20260421T114056
CREATED:20180516T083224Z
LAST-MODIFIED:20180516T083224Z
UID:524-1527811200-1528070399@maninagar.bk.ooo
SUMMARY:1st to 3rd June\,2018 Happy Healthy life Training By Dr. Satish Gupta at India Collony Center\, Ahmedabad.
DESCRIPTION:
URL:https://maninagar.bk.ooo/event/1st-to-3rd-june2018-happy-healthy-life-training-by-dr-satish-gupta-at-india-collony-center-ahmedabad/
LOCATION:Unnamed Venue\, India Collonyc\, Ahmedabad\, Gujarat\, 382350\, India
ORGANIZER;CN="Brahmakumaris%20Sukhshanti%20Bhawan":MAILTO:sukhshanti.bk@gmai8l.com
END:VEVENT
END:VCALENDAR