BEGIN:VCALENDAR
VERSION:2.0
PRODID:-//Brahma Kumaris Maninagar - ECPv4.9.3.2//NONSGML v1.0//EN
CALSCALE:GREGORIAN
METHOD:PUBLISH
X-WR-CALNAME:Brahma Kumaris Maninagar
X-ORIGINAL-URL:https://maninagar.bk.ooo
X-WR-CALDESC:Events for Brahma Kumaris Maninagar
BEGIN:VEVENT
DTSTART;TZID=UTC+0:20180605T090000
DTEND;TZID=UTC+0:20180605T233000
DTSTAMP:20260421T113749
CREATED:20180526T143509Z
LAST-MODIFIED:20180526T143640Z
UID:573-1528189200-1528241400@maninagar.bk.ooo
SUMMARY:5th June World Environment Day Celebration By Painting Compatition.
DESCRIPTION:
URL:https://maninagar.bk.ooo/event/5th-june-world-environment-day-celebration-by-painting-compatition/
LOCATION:Sukh Shanti Bhawan\, Bhulabhai Park Road \, Ahmedabad\, India
END:VEVENT
END:VCALENDAR