BEGIN:VCALENDAR
VERSION:2.0
PRODID:-//Brahma Kumaris Maninagar - ECPv4.9.3.2//NONSGML v1.0//EN
CALSCALE:GREGORIAN
METHOD:PUBLISH
X-WR-CALNAME:Brahma Kumaris Maninagar
X-ORIGINAL-URL:https://maninagar.bk.ooo
X-WR-CALDESC:Events for Brahma Kumaris Maninagar
BEGIN:VEVENT
DTSTART;TZID=UTC+0:20180907T100000
DTEND;TZID=UTC+0:20180907T130000
DTSTAMP:20260421T113827
CREATED:20180516T085140Z
LAST-MODIFIED:20180828T052812Z
UID:534-1536314400-1536325200@maninagar.bk.ooo
SUMMARY:7th September\, 2018  Friday Media Seminar and Get-to-Gather
DESCRIPTION:
URL:https://maninagar.bk.ooo/event/7th-september-2018-friday-media-seminar-and-get-to-gather/
ATTACH;FMTTYPE=image/jpeg:https://maninagar.bk.ooo/wp-content/uploads/sites/132/2018/03/UpcomingEvent-1.jpg
END:VEVENT
END:VCALENDAR