BEGIN:VCALENDAR
VERSION:2.0
PRODID:-//Brahma Kumaris Maninagar - ECPv4.9.3.2//NONSGML v1.0//EN
CALSCALE:GREGORIAN
METHOD:PUBLISH
X-WR-CALNAME:Brahma Kumaris Maninagar
X-ORIGINAL-URL:https://maninagar.bk.ooo
X-WR-CALDESC:Events for Brahma Kumaris Maninagar
BEGIN:VEVENT
DTSTART;TZID=UTC+0:20180908T090000
DTEND;TZID=UTC+0:20180909T170000
DTSTAMP:20260421T113932
CREATED:20180516T085522Z
LAST-MODIFIED:20180828T053025Z
UID:535-1536397200-1536512400@maninagar.bk.ooo
SUMMARY:8th & 9th September 2018 Master Media Training For Bks - Gujarat Zone Lavel at Nadiad Sewa Sankul.
DESCRIPTION:
URL:https://maninagar.bk.ooo/event/8th-9th-september-2018-master-media-training-for-bks-gujarat-zone-lavel-at-nadiad-sewa-sankul/
ATTACH;FMTTYPE=image/jpeg:https://maninagar.bk.ooo/wp-content/uploads/sites/132/2018/03/UpcomingEvent-1.jpg
END:VEVENT
END:VCALENDAR