BEGIN:VCALENDAR
VERSION:2.0
PRODID:-//Brahma Kumaris Maninagar - ECPv4.9.3.2//NONSGML v1.0//EN
CALSCALE:GREGORIAN
METHOD:PUBLISH
X-WR-CALNAME:Brahma Kumaris Maninagar
X-ORIGINAL-URL:https://maninagar.bk.ooo
X-WR-CALDESC:Events for Brahma Kumaris Maninagar
BEGIN:VEVENT
DTSTART;TZID=UTC+0:20180708T090000
DTEND;TZID=UTC+0:20180708T130000
DTSTAMP:20260421T114056
CREATED:20180516T085825Z
LAST-MODIFIED:20180516T085825Z
UID:536-1531040400-1531054800@maninagar.bk.ooo
SUMMARY:8th July Sunday 2018 Youth Meeting- Gujarat Zone Level at Vadodara-Ataladara
DESCRIPTION:
URL:https://maninagar.bk.ooo/event/8th-july-sunday-2018-youth-meeting-gujarat-zone-level-at-vadodara-ataladara/
END:VEVENT
END:VCALENDAR