BEGIN:VCALENDAR
VERSION:2.0
PRODID:-//Brahma Kumaris Maninagar - ECPv4.9.3.2//NONSGML v1.0//EN
CALSCALE:GREGORIAN
METHOD:PUBLISH
X-WR-CALNAME:Brahma Kumaris Maninagar
X-ORIGINAL-URL:https://maninagar.bk.ooo
X-WR-CALDESC:Events for Brahma Kumaris Maninagar
BEGIN:VEVENT
DTSTART;TZID=UTC+0:20180107T080000
DTEND;TZID=UTC+0:20180107T173000
DTSTAMP:20260421T130432
CREATED:20171204T133903Z
LAST-MODIFIED:20171208T062750Z
UID:118-1515312000-1515346200@maninagar.bk.ooo
SUMMARY:Maninagar Group Yog Tapasya Bhatti 7-1-2018 Sunday By Dr. Sachinbhai
DESCRIPTION:
URL:https://maninagar.bk.ooo/event/maninagar-group-yog-tapasya-bhatti-7-1-2018-sunday-by-dr-sachinbhai/
LOCATION:Gujarat Global Retreat Center\, Ujedia Cross Road\, Dehgam-Modasa\, Ujedia\, 383215
ATTACH;FMTTYPE=image/jpeg:https://maninagar.bk.ooo/wp-content/uploads/sites/132/2017/12/images.jpg
END:VEVENT
END:VCALENDAR