BEGIN:VCALENDAR
VERSION:2.0
PRODID:-//Brahma Kumaris Maninagar - ECPv4.9.3.2//NONSGML v1.0//EN
CALSCALE:GREGORIAN
METHOD:PUBLISH
X-WR-CALNAME:Brahma Kumaris Maninagar
X-ORIGINAL-URL:https://maninagar.bk.ooo
X-WR-CALDESC:Events for Brahma Kumaris Maninagar
BEGIN:VEVENT
DTSTART;TZID=UTC+0:20180106T083000
DTEND;TZID=UTC+0:20180106T173000
DTSTAMP:20260421T141532
CREATED:20181201T164935Z
LAST-MODIFIED:20181201T165158Z
UID:755-1515227400-1515259800@maninagar.bk.ooo
SUMMARY:Yog Tapsya Bhatthi- Maninagar Group Center
DESCRIPTION:\n		\n			#gallery-1 {\n				margin: auto;\n			}\n			#gallery-1 .gallery-item {\n				float: left;\n				margin-top: 10px;\n				text-align: center;\n				width: 33%;\n			}\n			#gallery-1 img {\n				border: 2px solid #cfcfcf;\n			}\n			#gallery-1 .gallery-caption {\n				margin-left: 0;\n			}\n			/* see gallery_shortcode() in wp-includes/media.php */\n		\n		\n			\n				\n			\n			\n		\n\n
URL:https://maninagar.bk.ooo/event/yog-tapsya-bhatthi-maninagar-group-center/
LOCATION:Vrindavan Party Plot\, Near Hathijan Lalgebi Circle\, SP Ring Road\, Ahmedabad\, Vrindavan Party Plot\, Near Hathijan Lalgebi Circle\, SP Ring Road\, Ahmedabad\, Ahmedabad\, India
ORGANIZER;CN="Brahmakumaris%20Sukhshanti%20Bhawan":MAILTO:sukhshanti.bk@gmai8l.com
END:VEVENT
END:VCALENDAR